BEGIN:VCALENDAR
VERSION:2.0
PRODID:-//ChamberMaster//Event Calendar 2.0//EN
METHOD:PUBLISH
X-PUBLISHED-TTL:P3D
REFRESH-INTERVAL:P3D
CALSCALE:GREGORIAN
BEGIN:VEVENT
DTSTART:20240405T000000Z
DTEND:20240405T050000Z
X-MICROSOFT-CDO-ALLDAYEVENT:FALSE
SUMMARY:Cinco de Mayo Bash!
DESCRIPTION:Join us! Ellensburg Rodeo Hall of Fame together with Spirit Therapeutic Riding Center are hosting a Cinco de Mayo party! Live music\, taco truck and cash bar
X-ALT-DESC;FMTTYPE=text/html:Join us! Ellensburg Rodeo Hall of Fame together with Spirit Therapeutic Riding Center are hosting a Cinco de Mayo party! Live music\, taco truck and cash bar
LOCATION:Spirit Therapeutic Riding Center 1051 Sorenson Road
UID:e.40.29886
SEQUENCE:3
DTSTAMP:20260424T043554Z
URL:http://kittitascountychamber.chambermaster.com/events/details/cinco-de-mayo-bash-29886
END:VEVENT

END:VCALENDAR
